BEGIN:VCALENDAR
VERSION:2.0
PRODID:-//hacksw/handcal//NONSGML v1.0//EN
CALSCALE:GREGORIAN
BEGIN:VEVENT
DTSTART:20200901T210000Z
DTEND:20200901T210000Z
UID:69ecbefb4b641
DTSTAMP:20260425UTC1317470
LOCATION:30 Century Circle Greenville\, South Carolina 29607
DESCRIPTION:Fall Round Community Enrichment\, Neighborhood Revitalization &amp; Special Projects Application Due
URL;VALUE=URI:https://www.scacog.org/events/38/grant-opportunity-sc-department-of-commerce-38
SUMMARY:Grant Deadline: SC Department of Commerce
END:VEVENT
END:VCALENDAR
