BEGIN:VCALENDAR
VERSION:2.0
PRODID:-//hacksw/handcal//NONSGML v1.0//EN
CALSCALE:GREGORIAN
BEGIN:VEVENT
DTSTART:20200313T210000Z
DTEND:20200313T210000Z
UID:69e72779529ee
DTSTAMP:20260421UTC0730010
LOCATION:30 Century Circle Greenville\, South Carolina 29607
DESCRIPTION:Spring Round Community Infrastrcuture Application Requests Due
URL;VALUE=URI:https://www.scacog.org/events/35/sc-department-of-commerce
SUMMARY:Grant Deadline: SC Department of Commerce
END:VEVENT
END:VCALENDAR
