BEGIN:VCALENDAR
VERSION:2.0
PRODID:-//hacksw/handcal//NONSGML v1.0//EN
CALSCALE:GREGORIAN
BEGIN:VEVENT
DTSTART:20201204T160000Z
DTEND:20201204T160000Z
UID:69e890b7cce5b
DTSTAMP:20260422UTC0911190
LOCATION:30 Century Circle Greenville\, South Carolina 29607
DESCRIPTION:Date is TBD. Visit the ACOG Board Meeting page for meeting materials and details: https://www.scacog.org/acog-board
URL;VALUE=URI:https://www.scacog.org/events/32/acog-board-meeting-32
SUMMARY:ACOG Board Meeting
END:VEVENT
END:VCALENDAR
