BEGIN:VCALENDAR
VERSION:2.0
PRODID:-//hacksw/handcal//NONSGML v1.0//EN
CALSCALE:GREGORIAN
BEGIN:VEVENT
DTSTART:20200828T160000Z
DTEND:20200828T160000Z
UID:69e98ba0070ff
DTSTAMP:20260423UTC0301520
LOCATION:30 Century Circle Greenville\, South Carolina 29607
DESCRIPTION:Visit the ACOG Board Meeting page for meeting materials and details: https://www.scacog.org/acog-board
URL;VALUE=URI:https://www.scacog.org/events/28/acog-board-meeting-28
SUMMARY:ACOG Board Meeting
END:VEVENT
END:VCALENDAR
