BEGIN:VCALENDAR
VERSION:2.0
PRODID:-//hacksw/handcal//NONSGML v1.0//EN
CALSCALE:GREGORIAN
BEGIN:VEVENT
DTSTART:20190320T160000Z
DTEND:20190320T160000Z
UID:69e9e616286c1
DTSTAMP:20260423UTC0927500
LOCATION:30 Century Circle Greenville\, South Carolina 29607
DESCRIPTION:REGIONAL AGING ADVISORY COMMITTEE MEETING
URL;VALUE=URI:https://www.scacog.org/events/20/raac-meeting-20
SUMMARY:RAAC Meeting
END:VEVENT
END:VCALENDAR
