BEGIN:VCALENDAR
VERSION:2.0
PRODID:-//hacksw/handcal//NONSGML v1.0//EN
CALSCALE:GREGORIAN
BEGIN:VEVENT
DTSTART:20181026T163000Z
DTEND:20180921T163000Z
UID:69e9e64ec8173
DTSTAMP:20260423UTC0928460
LOCATION:30 Century Circle Greenville\, South Carolina 29607
DESCRIPTION:Presentations will include: TBD 
URL;VALUE=URI:https://www.scacog.org/events/1/event-1
SUMMARY:ACOG October Board Meeting
END:VEVENT
END:VCALENDAR
